BEGIN:VCALENDAR
VERSION:2.0
PRODID:-//ChamberMaster//Event Calendar 2.0//EN
METHOD:PUBLISH
X-PUBLISHED-TTL:P3D
REFRESH-INTERVAL:P3D
CALSCALE:GREGORIAN
BEGIN:VEVENT
DTSTART:20130606T113000Z
DTEND:20130606T130000Z
X-MICROSOFT-CDO-ALLDAYEVENT:FALSE
SUMMARY:Eggs & Issues 2013
DESCRIPTION:Mark your calendars for the 1st Thursday of every month (unless otherwise noted) to join us for Eggs & Issues informative breakfasts.\n\n	\n\n	Sponsorships are available for every breakfast. Call to learn how your company can be part of these informative breakfast.\n\n	\n\n	Due to limited seating\, reservations are required! Contact the Chamber at 540.382.3020  for sponsorship information or to reserve your seat.\n\n	\n\n	\n\n	\n\n	  June 6 - Dr. John Dooley\, CEO of Virginia Tech Foundation.\n\n	\n\n	Sponsored by: VT Career Services\n\n	\n\n	\n\n	Note: Due to catering fees incurred\, any cancellations made within 24 hours of the event will still be charged the participation fee.
X-ALT-DESC;FMTTYPE=text/html:<p style="text-align: justify\;">\n	<strong><span style="font-size: 12px\;">Mark your calendars for the 1st Thursday of every month (unless otherwise noted) to join us for Eggs &amp\; Issues informative breakfasts.<br />\n	<br />\n	Sponsorships are available for every breakfast. Call to learn how your company&nbsp\;can be part of these informative breakfast.<br />\n	<br />\n	<span style="font-size: 16px\;"><span style="color: rgb(178\, 34\, 34)\;">Due to limited seating\, reservations are required! </span></span>Contact the Chamber at 540.382.3020&nbsp\; for sponsorship information or to reserve your seat.</span></strong><br />\n	<br />\n	<br />\n	<br />\n	<span style="color: rgb(0\, 0\, 128)\;"><span style="font-size: 12px\;"><em><span _fck_bookmark="1" style="display: none\;">&nbsp\;</span></em><span _fck_bookmark="1" style="display: none\;">&nbsp\;</span><span style="font-size: 14px\;"><strong>June 6 - Dr. John Dooley\, CEO of Virginia Tech Foundation.<br />\n	<br />\n	Sponsored by: VT Career Services</strong></span></span></span><br />\n	<br />\n	<br />\n	<strong><span style="font-size: 12px\;"><span style="color: rgb(178\, 34\, 34)\;"><span style="color: rgb(178\, 34\, 34)\;">Note: Due to catering fees incurred\, any cancellations made within 24 hours of the event will still be charged the participation fee.</span></span></span></strong><span style="color: rgb(178\, 34\, 34)\;"><span style="font-size: 16px\;"><span style="font-size: 14px\;"><span style="color: rgb(178\, 34\, 34)\;"><span _fck_bookmark="1" style="display: none\;"> </span></span></span></span></span></p>\n<p style="text-align: justify\;">\n	<br />\n	<br />\n	<br />\n	<br />\n	<span _fck_bookmark="1" style="display: none\;">&nbsp\;</span></p>\n
LOCATION:Holiday Inn Christiansburg (across from the NRV Mall) 99 Bradley Dr. Christiansburg\, VA 24073
UID:e.278.2806
SEQUENCE:3
DTSTAMP:20260421T114506Z
URL:http://montgomerychamber.chambermaster.com/events/details/eggs-issues-2013-06-06-2013-2806
END:VEVENT

END:VCALENDAR
