BEGIN:VCALENDAR
VERSION:2.0
PRODID:-//ChamberMaster//Event Calendar 2.0//EN
METHOD:PUBLISH
X-PUBLISHED-TTL:P3D
REFRESH-INTERVAL:P3D
CALSCALE:GREGORIAN
BEGIN:VEVENT
DTSTART:20120316T160000Z
DTEND:20120317T010000Z
X-MICROSOFT-CDO-ALLDAYEVENT:FALSE
SUMMARY:Event at Advantage Ranch
DESCRIPTION:THE CLINIC SERIES with Sue Cumming-Schultz\, March 16-18\, 2012\n\n	"Living and Ordinary Life in an Extraordinary Way"\n\n	Workshop\, Friday March 16\, 2012  \n\n	Discover the possibilities through lecture\, physical practice and dialogue between Sue and the participants. \n\n	            Reduce stress\, lower blood pressure and slow heart rate through  breathing and meditation techniques\n\n	          Learn a short yoga practice to stretch and rejuvenate the body. No previous yoga experience in necessary.\n\n	          Find your source of enthusiasm and vitality and learn how to access this power.\n\n	          Learn Breakdown and Breakthrough Technology to become more effective in producing the results you want in life. \n\n	Through her personal study and experience Sue has created a profound coaching program founded in awareness that though consistent practice of any worthy endeavor\, joy is created in the individual.  Sue is committed to people having and living their dreams!\n\n	\n\n	Sue Cumming-Schultz is a Transformational Specialist\, Business Consultant\, Advanced Certified Yoga Instructor\, Personal Mentor & Life Coach\, and the Trainer of over 600 National and World Champion Horses and Riders
X-ALT-DESC;FMTTYPE=text/html:<p class="MsoNormal">\n	THE CLINIC SERIES with Sue Cumming-Schultz\, March 16-18\, 2012</p>\n<p class="MsoNormal">\n	<b style="mso-bidi-font-weight:normal">&ldquo\;Living and Ordinary Life in an Extraordinary Way&rdquo\;</b></p>\n<p class="MsoNormal">\n	Workshop\, Friday March 16\, 2012<span style="mso-spacerun:yes">&nbsp\; </span></p>\n<p class="MsoNormal" style="mso-pagination:none">\n	<span lang="EN" style="mso-ansi-language:\nEN">Discover the possibilities through lecture\, physical practice and dialogue between Sue and the participants. </span></p>\n<p class="MsoNormal" style="margin-left:1.0in\;text-indent:-.25in\;mso-pagination:\nnone\;mso-list:l0 level1 lfo1\;tab-stops:list 1.0in">\n	<span lang="EN" style="font-size:\n5.0pt\;mso-ansi-language:EN"><span style="mso-spacerun:yes">&nbsp\; </span></span><span lang="EN" style="font-size:10.0pt\;font-family:Symbol\;mso-fareast-font-family:\nSymbol\;mso-bidi-font-family:Symbol\;mso-ansi-language:EN"><span style="mso-list:Ignore">&middot\;<span new="" style="font:7.0pt " times="">&nbsp\;&nbsp\;&nbsp\;&nbsp\;&nbsp\;&nbsp\;&nbsp\;&nbsp\; </span></span></span><span lang="EN" style="mso-ansi-language:EN">Reduce stress\, lower blood pressure and slow heart rate through<span style="mso-spacerun:yes">&nbsp\; </span>breathing and meditation techniques</span></p>\n<p class="MsoNormal" style="margin-left:1.0in\;text-indent:-.25in\;mso-pagination:\nnone\;mso-list:l0 level1 lfo1\;tab-stops:list 1.0in">\n	<span lang="EN" style="font-family:Symbol\;mso-fareast-font-family:Symbol\;mso-bidi-font-family:\nSymbol\;mso-ansi-language:EN"><span style="mso-list:Ignore">&middot\;<span new="" style="font:7.0pt " times="">&nbsp\;&nbsp\;&nbsp\;&nbsp\;&nbsp\;&nbsp\;&nbsp\;&nbsp\; </span></span></span><span lang="EN" style="mso-ansi-language:EN">Learn a short yoga practice to stretch and rejuvenate the body. No previous yoga experience in necessary.</span></p>\n<p class="MsoNormal" style="margin-left:1.0in\;text-indent:-.25in\;mso-pagination:\nnone\;mso-list:l0 level1 lfo1\;tab-stops:list 1.0in">\n	<span lang="EN" style="font-family:Symbol\;mso-fareast-font-family:Symbol\;mso-bidi-font-family:\nSymbol\;mso-ansi-language:EN"><span style="mso-list:Ignore">&middot\;<span new="" style="font:7.0pt " times="">&nbsp\;&nbsp\;&nbsp\;&nbsp\;&nbsp\;&nbsp\;&nbsp\;&nbsp\; </span></span></span><span lang="EN" style="mso-ansi-language:EN">Find your source of enthusiasm and vitality and learn how to access this power.</span></p>\n<p class="MsoNormal" style="margin-left:1.0in\;text-indent:-.25in\;mso-pagination:\nnone\;mso-list:l0 level1 lfo1\;tab-stops:list 1.0in">\n	<span lang="EN" style="font-family:Symbol\;mso-fareast-font-family:Symbol\;mso-bidi-font-family:\nSymbol\;mso-ansi-language:EN"><span style="mso-list:Ignore">&middot\;<span new="" style="font:7.0pt " times="">&nbsp\;&nbsp\;&nbsp\;&nbsp\;&nbsp\;&nbsp\;&nbsp\;&nbsp\; </span></span></span><span lang="EN" style="mso-ansi-language:EN">Learn Breakdown and Breakthrough Technology to become more effective in producing the results you want in life. </span></p>\n<p class="MsoNormal" style="mso-pagination:none">\n	<span style="font-size:12px\;"><span style="font-size:11px\;"><span style="font-family: Arial\;">Through her personal study and experience Sue has created a profound coaching program founded in awareness that though consistent practice of any worthy endeavor\, joy is created in the individual.<span>&nbsp\; </span>Sue is committed to people having and living their dreams!<br />\n	<br />\n	Sue Cumming-Schultz is a Transformational Specialist\, Business Consultant\, Advanced Certified Yoga Instructor\, Personal Mentor &amp\; Life Coach\, and the Trainer of over 600 National and World Champion Horses and Riders</span></span><br />\n	<span style="font-family: Arial\; font-weight: bold\;"><span>&nbsp\;&nbsp\;&nbsp\;&nbsp\;&nbsp\;&nbsp\;&nbsp\;&nbsp\;&nbsp\;&nbsp\; </span></span></span></p>\n<p class="MsoNormal" style="mso-pagination:none">\n	<span style="language:EN">&nbsp\;</span></p>\n
LOCATION:Advantage Ranch
UID:e.278.1908
SEQUENCE:3
DTSTAMP:20260426T002039Z
URL:http://montgomerychamber.chambermaster.com/events/details/event-at-advantage-ranch-03-16-2012-1908
END:VEVENT

END:VCALENDAR
