BEGIN:VCALENDAR
VERSION:2.0
PRODID:-//ChamberMaster//Event Calendar 2.0//EN
METHOD:PUBLISH
X-PUBLISHED-TTL:P3D
REFRESH-INTERVAL:P3D
CALSCALE:GREGORIAN
BEGIN:VEVENT
DTSTART:20121019T220000Z
DTEND:20121020T210000Z
X-MICROSOFT-CDO-ALLDAYEVENT:FALSE
SUMMARY:Hackathon Competition
DESCRIPTION:Virginia Tech's Institute for Creativity\, Arts\, and Technology co-hosts the Blacksburg/Roanoke location of a statewide Hackathon competition with the Roanoke-Blacksburg Technology Council\, and Techpad. The hackers' mission: develop innovative applications that leverage existing data on Virginia public school students' progress toward college and career readiness to help educators and policymakers build a stronger\, smarter workforce. The Virginia Department of Education (VDOE) and the state-chartered non-profit Center for Innovative Technology\, created a software application development program\, Apps4VA\, to support the development and implementation of a data system that would record student progress from early childhood to postsecondary and beyond\, while also protecting student privacy and confidentiality. The Hackathon is a 24-hour competition that encourages the design and development of new applications that use this data system. The Hackathon will be held simultaneously in five locations across the state. All five locations will be linked via simulcast.\n\n	A university-level research institute sitting at the nexus of the arts\, design\, engineering\, and science\, the Institute for Creativity\, Arts\, and Technology is uniquely partnered with the Center for the Arts at Virginia Tech. By forging a pathway between transdisciplinary research and art\, educational innovation\, and scientific and commercial discovery\, the institute works to foster the creative process to create new possibilities for exploration and expression through learning\, discovery\, and engagement. This includes preparing students in pre-kindergarten through 12th grade and higher education environments to succeed in a world that demands teamwork and collaboration of science\, technology\, engineering\, and math (STEM) disciplines\; promoting new research domains that transcend institutionalized boundaries\; and participating with people of all ages in the process of co-creation.
X-ALT-DESC;FMTTYPE=text/html:<p class="MsoNormal">\n	Virginia Tech&rsquo\;s&nbsp\;<a href="http://www.icat.vt.edu/">Institute for Creativity\, Arts\, and Technology</a>&nbsp\;co-hosts the Blacksburg/Roanoke location of a statewide&nbsp\;<a href="http://www.apps4va.org/hackathons.html" target="_blank">Hackathon competition</a> with the Roanoke-Blacksburg Technology Council\, and Techpad.&nbsp\;The hackers&rsquo\; mission: develop innovative applications that leverage existing data on Virginia public school students&rsquo\; progress toward college and career readiness to help educators and policymakers build a stronger\, smarter workforce.<span style="line-height: 115%\; font-family: arial\, sans-serif\; color: black\; font-size: 8.5pt"> </span>The Virginia Department of Education (VDOE) and the state-chartered non-profit Center for Innovative Technology\, created a software application development program\,&nbsp\;<a href="http://www.youtube.com/watch?feature=player_embedded&amp\;v=9LnvgYMPAq8" target="_blank">Apps4VA</a>\, to support the development and implementation of a data system that would record student progress from early childhood to postsecondary and beyond\, while also protecting student privacy and confidentiality. The Hackathon is a 24-hour competition that encourages the design and development of new applications that use this data system.&nbsp\;The Hackathon will be held simultaneously in five locations across the state. All five locations will be linked via simulcast.<o:p></o:p></p>\n<p class="MsoNormal">\n	A university-level research institute sitting at the nexus of the arts\, design\, engineering\, and science\, the&nbsp\;<a href="http://www.icat.vt.edu/" target="_blank">Institute for Creativity\, Arts\, and Technology</a>&nbsp\;is uniquely partnered with the Center for the Arts at Virginia Tech. By forging a pathway between transdisciplinary research and art\, educational innovation\, and scientific and commercial discovery\, the institute works to foster the creative process to create new possibilities for exploration and expression through learning\, discovery\, and engagement. This includes preparing students in pre-kindergarten through 12th grade and higher education environments to succeed in a world that demands teamwork and collaboration of science\, technology\, engineering\, and math (STEM) disciplines\; promoting new research domains that transcend institutionalized boundaries\; and participating with people of all ages in the process of co-creation.<o:p></o:p></p>\n
LOCATION:STUDIOne 460 Turner Street Blacksburg\, VA 24061
UID:e.278.2376
SEQUENCE:3
DTSTAMP:20260422T001127Z
URL:http://montgomerychamber.chambermaster.com/events/details/hackathon-competition-10-19-2012-2376
END:VEVENT

END:VCALENDAR
