BEGIN:VCALENDAR
VERSION:2.0
PRODID:-//ChamberMaster//Event Calendar 2.0//EN
METHOD:PUBLISH
X-PUBLISHED-TTL:P3D
REFRESH-INTERVAL:P3D
CALSCALE:GREGORIAN
BEGIN:VEVENT
DTSTART:20130808T213000Z
DTEND:20130808T224500Z
X-MICROSOFT-CDO-ALLDAYEVENT:FALSE
SUMMARY:Shark Bite
DESCRIPTION:What's in a Name?\n\nWasn't it Shakespeare who said Coca-Cola by any other name would taste as sweet\, but it sure wouldn't have the same pop?! Maybe we're mixing our branding metaphors a bit\, but your customers shouldn't be mixed up at all when it comes to identifying your company's brand\, its products or services. Selecting a name\, brand\, logo or slogan requires careful thought and planning\, and a good understanding of the nuances of trademark law in order to steer clear of trouble from competitors and create a lasting\, and protectable\, impression.
X-ALT-DESC;FMTTYPE=text/html:<em><strong>What&rsquo\;s in a Name?</strong></em><br />\nWasn&rsquo\;t it Shakespeare who said Coca-Cola by any other name would taste as sweet\, but it sure wouldn&rsquo\;t have the same pop?! Maybe we&rsquo\;re mixing our branding metaphors a bit\, but your customers shouldn&rsquo\;t be mixed up at all when it comes to identifying your company&rsquo\;s brand\, its products or services. Selecting a name\, brand\, logo or slogan requires careful thought and planning\, and a good understanding of the nuances of trademark law in order to steer clear of trouble from competitors and create a lasting\, and protectable\, impression.
LOCATION:Salem Memorial Ballpark
UID:e.278.2832
SEQUENCE:3
DTSTAMP:20260421T075952Z
URL:http://montgomerychamber.chambermaster.com/events/details/shark-bite-08-08-2013-2832
END:VEVENT

END:VCALENDAR
